BEGIN:VCALENDAR
VERSION:2.0
PRODID:-//hacksw/handcal//NONSGML v1.0//EN
BEGIN:VEVENT
SUMMARY:Match Futsal : LORRIS / FC LOING
UID:e7ecfe19-7573-4140-9346-eef6c6ef7d3a
DTSTART:20260403T190000Z
DTEND:20260403T201500Z
LOCATION:Localisation   
CATEGORIES:Sportif
STATUS:
URL;VALUE=URI:https://uslorris.sportsregions.fr/evenements/2026/04/03/match-futsal-lorris-fc-loing-2435933
END:VEVENT
END:VCALENDAR
