BEGIN:VCALENDAR
VERSION:2.0
PRODID:-//hacksw/handcal//NONSGML v1.0//EN
BEGIN:VEVENT
SUMMARY:Match Veterans : POILLY / LORRIS
UID:c1608d6c-b2a6-48b4-80f0-9f275305dcac
DTSTART:20260403T190000Z
DTEND:20260403T210000Z
LOCATION:Localisation   
CATEGORIES:Sportif
STATUS:
URL;VALUE=URI:https://uslorris.sportsregions.fr/evenements/2026/04/03/match-veterans-poilly-lorris-2436726
END:VEVENT
END:VCALENDAR
