BEGIN:VCALENDAR
VERSION:2.0
PRODID:-//hacksw/handcal//NONSGML v1.0//EN
BEGIN:VEVENT
SUMMARY:Match Seniors 1 : NOGENT / LORRIS
UID:dd458e5d-260d-4a3c-b83a-518daacf9f9a
DTSTART:20260405T130000Z
DTEND:20260405T150000Z
LOCATION:Localisation   
CATEGORIES:Sportif
STATUS:
URL;VALUE=URI:https://uslorris.sportsregions.fr/evenements/2026/04/05/match-seniors-1-nogent-lorris-2436506
END:VEVENT
END:VCALENDAR
