BEGIN:VCALENDAR
VERSION:2.0
PRODID:-//hacksw/handcal//NONSGML v1.0//EN
BEGIN:VEVENT
SUMMARY:Match Veterans : FCVO / LORRIS
UID:9aa36122-ff3e-4b7d-bb53-a5e49e193bea
DTSTART:20260410T190000Z
DTEND:20260410T210000Z
LOCATION:Localisation   
CATEGORIES:Sportif
STATUS:
URL;VALUE=URI:https://uslorris.sportsregions.fr/evenements/2026/04/10/match-veterans-fcvo-lorris-2439498
END:VEVENT
END:VCALENDAR
