BEGIN:VCALENDAR
VERSION:2.0
PRODID:-//hacksw/handcal//NONSGML v1.0//EN
BEGIN:VEVENT
SUMMARY:Coupe consolante U11 a Dampierre
UID:7c02c04e-27d5-49a6-8388-7198b109ed07
DTSTART:20260410T220000Z
DTEND:20260411T220000Z
LOCATION:Localisation   
CATEGORIES:Sportif
STATUS:
URL;VALUE=URI:https://uslorris.sportsregions.fr/evenements/2026/04/11/coupe-consolante-u11-a-dampierre-2440175
END:VEVENT
END:VCALENDAR
