BEGIN:VCALENDAR
VERSION:2.0
PRODID:-//hacksw/handcal//NONSGML v1.0//EN
BEGIN:VEVENT
SUMMARY:Match U11 G2 : SULLY / LORRIS
UID:c81628b9-c1ca-4f91-becd-e3d848d74bc6
DTSTART:20260411T120000Z
DTEND:20260411T133000Z
LOCATION:Localisation   
CATEGORIES:Sportif
STATUS:
URL;VALUE=URI:https://uslorris.sportsregions.fr/evenements/2026/04/11/match-u11-g2-sully-lorris-2439412
END:VEVENT
END:VCALENDAR
