BEGIN:VCALENDAR
VERSION:2.0
PRODID:-//hacksw/handcal//NONSGML v1.0//EN
BEGIN:VEVENT
SUMMARY:Match Seniors 1 : LORRIS / ESLF
UID:b7dcc25f-146a-4a8c-96e2-a4357e4dd61c
DTSTART:20260412T130000Z
DTEND:20260412T150000Z
LOCATION:Localisation   
CATEGORIES:Sportif
STATUS:
URL;VALUE=URI:https://uslorris.sportsregions.fr/evenements/2026/04/12/match-seniors-1-lorris-eslf-2439415
END:VEVENT
END:VCALENDAR
