BEGIN:VCALENDAR
VERSION:2.0
PRODID:-//hacksw/handcal//NONSGML v1.0//EN
BEGIN:VEVENT
SUMMARY:Tournoi U13 G2 - MANDORAIS - 12 Avril 2026
UID:955ba337-7643-414a-a30a-78d052ce929f
DTSTART:20260411T220000Z
DTEND:20260412T220000Z
LOCATION:Localisation   
CATEGORIES:Sportif
STATUS:
URL;VALUE=URI:https://uslorris.sportsregions.fr/evenements/2026/04/12/tournoi-u13-g2-mandorais-12-avril-2026-2440365
END:VEVENT
END:VCALENDAR
