BEGIN:VCALENDAR
VERSION:2.0
PRODID:-//hacksw/handcal//NONSGML v1.0//EN
BEGIN:VEVENT
SUMMARY:Match Seniors 2 : RCBB / LORRIS
UID:0baa9cc2-b427-4e49-9c98-1911247c1d9f
DTSTART:20260419T130000Z
DTEND:20260419T150000Z
LOCATION:Localisation   
CATEGORIES:Sportif
STATUS:
URL;VALUE=URI:https://uslorris.sportsregions.fr/evenements/2026/04/19/match-seniors-2-rcbb-lorris-2441807
END:VEVENT
END:VCALENDAR
